BEGIN:VCALENDAR
VERSION:2.0
PRODID:-//Réso Pédia - ECPv6.15.20//NONSGML v1.0//EN
CALSCALE:GREGORIAN
METHOD:PUBLISH
X-ORIGINAL-URL:https://www.reso-pedia.fr
X-WR-CALDESC:Évènements pour Réso Pédia
REFRESH-INTERVAL;VALUE=DURATION:PT1H
X-Robots-Tag:noindex
X-PUBLISHED-TTL:PT1H
BEGIN:VTIMEZONE
TZID:Europe/Paris
BEGIN:DAYLIGHT
TZOFFSETFROM:+0100
TZOFFSETTO:+0200
TZNAME:CEST
DTSTART:20210328T010000
END:DAYLIGHT
BEGIN:STANDARD
TZOFFSETFROM:+0200
TZOFFSETTO:+0100
TZNAME:CET
DTSTART:20211031T010000
END:STANDARD
BEGIN:DAYLIGHT
TZOFFSETFROM:+0100
TZOFFSETTO:+0200
TZNAME:CEST
DTSTART:20220327T010000
END:DAYLIGHT
BEGIN:STANDARD
TZOFFSETFROM:+0200
TZOFFSETTO:+0100
TZNAME:CET
DTSTART:20221030T010000
END:STANDARD
BEGIN:DAYLIGHT
TZOFFSETFROM:+0100
TZOFFSETTO:+0200
TZNAME:CEST
DTSTART:20230326T010000
END:DAYLIGHT
BEGIN:STANDARD
TZOFFSETFROM:+0200
TZOFFSETTO:+0100
TZNAME:CET
DTSTART:20231029T010000
END:STANDARD
END:VTIMEZONE
BEGIN:VEVENT
DTSTART;TZID=Europe/Paris:20220616T160000
DTEND;TZID=Europe/Paris:20220616T180000
DTSTAMP:20260421T144916
CREATED:20220516T131620Z
LAST-MODIFIED:20220516T131701Z
UID:10000013-1655395200-1655402400@www.reso-pedia.fr
SUMMARY:Comité de pilotage
DESCRIPTION:Réunion du Comité de pilotage : réservée aux membres du COPIL
URL:https://www.reso-pedia.fr/evenement/comite-de-pilotage-2/
LOCATION:En ligne
CATEGORIES:Réunions Réso’Pedia
ATTACH;FMTTYPE=image/jpeg:https://www.reso-pedia.fr/wp-content/uploads/2021/07/FORMES_RÉSO_PEDIA_6.jpg
ORGANIZER;CN="R%C3%A9so'P%C3%A9dia":MAILTO:coordination@reso-pedia.fr
END:VEVENT
BEGIN:VEVENT
DTSTART;TZID=Europe/Paris:20220627T160000
DTEND;TZID=Europe/Paris:20220627T180000
DTSTAMP:20260421T144916
CREATED:20220516T131156Z
LAST-MODIFIED:20220516T131156Z
UID:10000012-1656345600-1656352800@www.reso-pedia.fr
SUMMARY:Conseil Scientifique et Pédagogique
DESCRIPTION:Réunion du Conseil Scientifique et Pédagogique de Réso’Pédia \nRéserver aux membres. \nEn savoir +
URL:https://www.reso-pedia.fr/evenement/conseil-scientifique-et-pedagogique-2/
LOCATION:En ligne
CATEGORIES:Réunions Réso’Pedia
ATTACH;FMTTYPE=image/jpeg:https://www.reso-pedia.fr/wp-content/uploads/2021/07/FORMES_RÉSO_PEDIA_2.jpg
ORGANIZER;CN="R%C3%A9so'P%C3%A9dia":MAILTO:coordination@reso-pedia.fr
END:VEVENT
END:VCALENDAR