BEGIN:VCALENDAR
VERSION:2.0
PRODID:-//Réso Pédia - ECPv6.15.20//NONSGML v1.0//EN
CALSCALE:GREGORIAN
METHOD:PUBLISH
X-WR-CALNAME:Réso Pédia
X-ORIGINAL-URL:https://www.reso-pedia.fr
X-WR-CALDESC:Évènements pour Réso Pédia
REFRESH-INTERVAL;VALUE=DURATION:PT1H
X-Robots-Tag:noindex
X-PUBLISHED-TTL:PT1H
BEGIN:VTIMEZONE
TZID:Europe/Paris
BEGIN:DAYLIGHT
TZOFFSETFROM:+0100
TZOFFSETTO:+0200
TZNAME:CEST
DTSTART:20220327T010000
END:DAYLIGHT
BEGIN:STANDARD
TZOFFSETFROM:+0200
TZOFFSETTO:+0100
TZNAME:CET
DTSTART:20221030T010000
END:STANDARD
BEGIN:DAYLIGHT
TZOFFSETFROM:+0100
TZOFFSETTO:+0200
TZNAME:CEST
DTSTART:20230326T010000
END:DAYLIGHT
BEGIN:STANDARD
TZOFFSETFROM:+0200
TZOFFSETTO:+0100
TZNAME:CET
DTSTART:20231029T010000
END:STANDARD
BEGIN:DAYLIGHT
TZOFFSETFROM:+0100
TZOFFSETTO:+0200
TZNAME:CEST
DTSTART:20240331T010000
END:DAYLIGHT
BEGIN:STANDARD
TZOFFSETFROM:+0200
TZOFFSETTO:+0100
TZNAME:CET
DTSTART:20241027T010000
END:STANDARD
END:VTIMEZONE
BEGIN:VEVENT
DTSTART;TZID=Europe/Paris:20230525T160000
DTEND;TZID=Europe/Paris:20230525T180000
DTSTAMP:20260421T150022
CREATED:20230113T112140Z
LAST-MODIFIED:20230113T112140Z
UID:10000023-1685030400-1685037600@www.reso-pedia.fr
SUMMARY:Réunion du COPIL
DESCRIPTION:Réunion du Comité de pilotage : réservée aux membres du COPIL
URL:https://www.reso-pedia.fr/evenement/reunion-du-copil-5/
LOCATION:En ligne
CATEGORIES:Réunions Réso’Pedia
ORGANIZER;CN="R%C3%A9so'P%C3%A9dia":MAILTO:coordination@reso-pedia.fr
END:VEVENT
END:VCALENDAR