BEGIN:VCALENDAR
VERSION:2.0
PRODID:-//Réso Pédia - ECPv6.15.20//NONSGML v1.0//EN
CALSCALE:GREGORIAN
METHOD:PUBLISH
X-WR-CALNAME:Réso Pédia
X-ORIGINAL-URL:https://www.reso-pedia.fr
X-WR-CALDESC:Évènements pour Réso Pédia
REFRESH-INTERVAL;VALUE=DURATION:PT1H
X-Robots-Tag:noindex
X-PUBLISHED-TTL:PT1H
BEGIN:VTIMEZONE
TZID:Europe/Paris
BEGIN:DAYLIGHT
TZOFFSETFROM:+0100
TZOFFSETTO:+0200
TZNAME:CEST
DTSTART:20230326T010000
END:DAYLIGHT
BEGIN:STANDARD
TZOFFSETFROM:+0200
TZOFFSETTO:+0100
TZNAME:CET
DTSTART:20231029T010000
END:STANDARD
BEGIN:DAYLIGHT
TZOFFSETFROM:+0100
TZOFFSETTO:+0200
TZNAME:CEST
DTSTART:20240331T010000
END:DAYLIGHT
BEGIN:STANDARD
TZOFFSETFROM:+0200
TZOFFSETTO:+0100
TZNAME:CET
DTSTART:20241027T010000
END:STANDARD
BEGIN:DAYLIGHT
TZOFFSETFROM:+0100
TZOFFSETTO:+0200
TZNAME:CEST
DTSTART:20250330T010000
END:DAYLIGHT
BEGIN:STANDARD
TZOFFSETFROM:+0200
TZOFFSETTO:+0100
TZNAME:CET
DTSTART:20251026T010000
END:STANDARD
END:VTIMEZONE
BEGIN:VEVENT
DTSTART;TZID=Europe/Paris:20240906T143000
DTEND;TZID=Europe/Paris:20240906T160000
DTSTAMP:20260419T234739
CREATED:20240605T131259Z
LAST-MODIFIED:20240605T131259Z
UID:10000034-1725633000-1725638400@www.reso-pedia.fr
SUMMARY:Groupe de travail – Certificat d'inaptitude partielle à l'activité physique
DESCRIPTION:
URL:https://www.reso-pedia.fr/evenement/groupe-de-travail-certificat-dinaptitude-partielle-a-lactivite-physique/
LOCATION:En ligne
CATEGORIES:Réunions Réso’Pedia
ATTACH;FMTTYPE=image/jpeg:https://www.reso-pedia.fr/wp-content/uploads/2024/05/Image-visio.jpg
ORGANIZER;CN="R%C3%A9so'P%C3%A9dia":MAILTO:coordination@reso-pedia.fr
END:VEVENT
BEGIN:VEVENT
DTSTART;TZID=Europe/Paris:20240912T183000
DTEND;TZID=Europe/Paris:20240912T200000
DTSTAMP:20260419T234739
CREATED:20240425T101404Z
LAST-MODIFIED:20240425T101521Z
UID:10000029-1726165800-1726171200@www.reso-pedia.fr
SUMMARY:Webinaire "Fièvre de l'enfant"
DESCRIPTION:
URL:https://www.reso-pedia.fr/evenement/webinaire-fievre-de-lenfant/
LOCATION:Webinaire\, En ligne
CATEGORIES:Formations Réso’Pédia
ATTACH;FMTTYPE=image/jpeg:https://www.reso-pedia.fr/wp-content/uploads/2024/04/mon-enfant-a-de-la-fievre.jpg
ORGANIZER;CN="R%C3%A9so'P%C3%A9dia":MAILTO:coordination@reso-pedia.fr
END:VEVENT
END:VCALENDAR