BEGIN:VCALENDAR
VERSION:2.0
PRODID:-//Réso Pédia - ECPv6.15.20//NONSGML v1.0//EN
CALSCALE:GREGORIAN
METHOD:PUBLISH
X-ORIGINAL-URL:https://www.reso-pedia.fr
X-WR-CALDESC:Évènements pour Réso Pédia
REFRESH-INTERVAL;VALUE=DURATION:PT1H
X-Robots-Tag:noindex
X-PUBLISHED-TTL:PT1H
BEGIN:VTIMEZONE
TZID:Europe/Paris
BEGIN:DAYLIGHT
TZOFFSETFROM:+0100
TZOFFSETTO:+0200
TZNAME:CEST
DTSTART:20240331T010000
END:DAYLIGHT
BEGIN:STANDARD
TZOFFSETFROM:+0200
TZOFFSETTO:+0100
TZNAME:CET
DTSTART:20241027T010000
END:STANDARD
BEGIN:DAYLIGHT
TZOFFSETFROM:+0100
TZOFFSETTO:+0200
TZNAME:CEST
DTSTART:20250330T010000
END:DAYLIGHT
BEGIN:STANDARD
TZOFFSETFROM:+0200
TZOFFSETTO:+0100
TZNAME:CET
DTSTART:20251026T010000
END:STANDARD
BEGIN:DAYLIGHT
TZOFFSETFROM:+0100
TZOFFSETTO:+0200
TZNAME:CEST
DTSTART:20260329T010000
END:DAYLIGHT
BEGIN:STANDARD
TZOFFSETFROM:+0200
TZOFFSETTO:+0100
TZNAME:CET
DTSTART:20261025T010000
END:STANDARD
END:VTIMEZONE
BEGIN:VEVENT
DTSTART;TZID=Europe/Paris:20250113T103000
DTEND;TZID=Europe/Paris:20250113T123000
DTSTAMP:20260419T183844
CREATED:20241125T143836Z
LAST-MODIFIED:20250729T094459Z
UID:10000041-1736764200-1736771400@www.reso-pedia.fr
SUMMARY:Comité d'organisation - Journée Réso'Pédia 2025
DESCRIPTION:
URL:https://www.reso-pedia.fr/evenement/comite-dorganisation-journee-resopedia-2025-2/
LOCATION:En ligne
CATEGORIES:Réunions Réso’Pedia
ATTACH;FMTTYPE=image/jpeg:https://www.reso-pedia.fr/wp-content/uploads/2024/07/gens-papier-grand-angle-fond-bleu-scaled-1.jpg
ORGANIZER;CN="R%C3%A9so'P%C3%A9dia":MAILTO:coordination@reso-pedia.fr
END:VEVENT
END:VCALENDAR