BEGIN:VCALENDAR
VERSION:2.0
PRODID:-//Réso Pédia - ECPv6.15.20//NONSGML v1.0//EN
CALSCALE:GREGORIAN
METHOD:PUBLISH
X-WR-CALNAME:Réso Pédia
X-ORIGINAL-URL:https://www.reso-pedia.fr
X-WR-CALDESC:Évènements pour Réso Pédia
REFRESH-INTERVAL;VALUE=DURATION:PT1H
X-Robots-Tag:noindex
X-PUBLISHED-TTL:PT1H
BEGIN:VTIMEZONE
TZID:Europe/Paris
BEGIN:DAYLIGHT
TZOFFSETFROM:+0100
TZOFFSETTO:+0200
TZNAME:CEST
DTSTART:20210328T010000
END:DAYLIGHT
BEGIN:STANDARD
TZOFFSETFROM:+0200
TZOFFSETTO:+0100
TZNAME:CET
DTSTART:20211031T010000
END:STANDARD
BEGIN:DAYLIGHT
TZOFFSETFROM:+0100
TZOFFSETTO:+0200
TZNAME:CEST
DTSTART:20220327T010000
END:DAYLIGHT
BEGIN:STANDARD
TZOFFSETFROM:+0200
TZOFFSETTO:+0100
TZNAME:CET
DTSTART:20221030T010000
END:STANDARD
BEGIN:DAYLIGHT
TZOFFSETFROM:+0100
TZOFFSETTO:+0200
TZNAME:CEST
DTSTART:20230326T010000
END:DAYLIGHT
BEGIN:STANDARD
TZOFFSETFROM:+0200
TZOFFSETTO:+0100
TZNAME:CET
DTSTART:20231029T010000
END:STANDARD
BEGIN:DAYLIGHT
TZOFFSETFROM:+0100
TZOFFSETTO:+0200
TZNAME:CEST
DTSTART:20240331T010000
END:DAYLIGHT
BEGIN:STANDARD
TZOFFSETFROM:+0200
TZOFFSETTO:+0100
TZNAME:CET
DTSTART:20241027T010000
END:STANDARD
BEGIN:DAYLIGHT
TZOFFSETFROM:+0100
TZOFFSETTO:+0200
TZNAME:CEST
DTSTART:20250330T010000
END:DAYLIGHT
BEGIN:STANDARD
TZOFFSETFROM:+0200
TZOFFSETTO:+0100
TZNAME:CET
DTSTART:20251026T010000
END:STANDARD
BEGIN:DAYLIGHT
TZOFFSETFROM:+0100
TZOFFSETTO:+0200
TZNAME:CEST
DTSTART:20260329T010000
END:DAYLIGHT
BEGIN:STANDARD
TZOFFSETFROM:+0200
TZOFFSETTO:+0100
TZNAME:CET
DTSTART:20261025T010000
END:STANDARD
BEGIN:DAYLIGHT
TZOFFSETFROM:+0100
TZOFFSETTO:+0200
TZNAME:CEST
DTSTART:20270328T010000
END:DAYLIGHT
BEGIN:STANDARD
TZOFFSETFROM:+0200
TZOFFSETTO:+0100
TZNAME:CET
DTSTART:20271031T010000
END:STANDARD
END:VTIMEZONE
BEGIN:VEVENT
DTSTART;TZID=Europe/Paris:20260204T133000
DTEND;TZID=Europe/Paris:20260204T150000
DTSTAMP:20260419T141328
CREATED:20251208T140438Z
LAST-MODIFIED:20260206T102119Z
UID:10000069-1770211800-1770217200@www.reso-pedia.fr
SUMMARY:Atelier santé mentale des adolescents
DESCRIPTION:Dans le cadre de la journée régionale sur la pertinence des soins
URL:https://www.reso-pedia.fr/evenement/atelier-sante-mentale-des-adolescents/
LOCATION:Centre des congrès Angers\, 33 Bd Carnot\, Angers\, France\, 49100\, France
ATTACH;FMTTYPE=image/jpeg:https://www.reso-pedia.fr/wp-content/uploads/2025/12/gros-plan-sur-le-portrait-d-un-garcon-triste-1-scaled-e1765203274376.jpg
END:VEVENT
BEGIN:VEVENT
DTSTART;TZID=Europe/Paris:20220930T090000
DTEND;TZID=Europe/Paris:20220930T170000
DTSTAMP:20260419T141328
CREATED:20220516T132527Z
LAST-MODIFIED:20241007T120913Z
UID:10000015-1664528400-1664557200@www.reso-pedia.fr
SUMMARY:Agir ensemble pour la santé de enfants : des 1000 1ers jours à 6 ans
DESCRIPTION:Cette première journée pluriprofessionnelle\, organisée par le Réso’Pédia en partenariat avec l’IREPS Pays de la Loire s’adresse aux professionnels de santé et du médico-social ligériens investis le champ de la santé de l’enfant.\n\nLe programme\, co-construit par la Commission Prévention\, le Conseil Scientifique et le Comité de pilotage du Réso’Pédia s’articule autour de 2 concepts-clés pour agir favorablement sur la santé : \n\nLa période des 1000 1ers jours\, élargie jusqu’aux 6 ans de l’enfant\nLes compétences psycho-sociales.\n\nDes intervenants nationaux et régionaux partageront leurs expertises et leurs pratiques. Cette journée sera l’occasion de conduire une réflexion commune\, d’échanger sur les outils\, pour construire ensemble et renforcer le travail partenarial et de réseau en Prévention pour l’enfant. \n\n  \nS’inscrire
URL:https://www.reso-pedia.fr/evenement/agir-ensemble-pour-la-sante-de-enfants-des-1000-1ers-jours-a-6-ans/
LOCATION:Centre des congrès Angers\, 33 Bd Carnot\, Angers\, France\, 49100\, France
CATEGORIES:Formations Réso’Pédia,Réunions Réso’Pedia
ORGANIZER;CN="R%C3%A9so'P%C3%A9dia":MAILTO:coordination@reso-pedia.fr
END:VEVENT
END:VCALENDAR