BEGIN:VCALENDAR
VERSION:2.0
PRODID:-//Réso Pédia - ECPv6.15.20//NONSGML v1.0//EN
CALSCALE:GREGORIAN
METHOD:PUBLISH
X-WR-CALNAME:Réso Pédia
X-ORIGINAL-URL:https://www.reso-pedia.fr
X-WR-CALDESC:Évènements pour Réso Pédia
REFRESH-INTERVAL;VALUE=DURATION:PT1H
X-Robots-Tag:noindex
X-PUBLISHED-TTL:PT1H
BEGIN:VTIMEZONE
TZID:Europe/Paris
BEGIN:DAYLIGHT
TZOFFSETFROM:+0100
TZOFFSETTO:+0200
TZNAME:CEST
DTSTART:20210328T010000
END:DAYLIGHT
BEGIN:STANDARD
TZOFFSETFROM:+0200
TZOFFSETTO:+0100
TZNAME:CET
DTSTART:20211031T010000
END:STANDARD
BEGIN:DAYLIGHT
TZOFFSETFROM:+0100
TZOFFSETTO:+0200
TZNAME:CEST
DTSTART:20220327T010000
END:DAYLIGHT
BEGIN:STANDARD
TZOFFSETFROM:+0200
TZOFFSETTO:+0100
TZNAME:CET
DTSTART:20221030T010000
END:STANDARD
BEGIN:DAYLIGHT
TZOFFSETFROM:+0100
TZOFFSETTO:+0200
TZNAME:CEST
DTSTART:20230326T010000
END:DAYLIGHT
BEGIN:STANDARD
TZOFFSETFROM:+0200
TZOFFSETTO:+0100
TZNAME:CET
DTSTART:20231029T010000
END:STANDARD
END:VTIMEZONE
BEGIN:VEVENT
DTSTART;TZID=Europe/Paris:20220530T140000
DTEND;TZID=Europe/Paris:20220530T180000
DTSTAMP:20260420T021944
CREATED:20220516T121701Z
LAST-MODIFIED:20220516T132356Z
UID:10000017-1653919200-1653933600@www.reso-pedia.fr
SUMMARY:Groupe de travail sur la fièvre
DESCRIPTION:Dans le cadre des actions de la Commission Soins non programmés. \nRéunion réservée aux membres de la Commission \nParticiper à la vie de Réso’Pédia : rejoindre les commissions et groupes de travail \n 
URL:https://www.reso-pedia.fr/evenement/groupe-de-travail-sur-la-fievre/
LOCATION:Ethic Etape\, 49 Av. du Lac de Maine\, Angers\, 49000\, France
CATEGORIES:Réunions Réso’Pedia
ATTACH;FMTTYPE=image/jpeg:https://www.reso-pedia.fr/wp-content/uploads/2021/07/FORMES_RÉSO_PEDIA_5.jpg
ORGANIZER;CN="R%C3%A9so'P%C3%A9dia":MAILTO:coordination@reso-pedia.fr
END:VEVENT
END:VCALENDAR