BEGIN:VCALENDAR
VERSION:2.0
PRODID:-//Réso Pédia - ECPv6.15.20//NONSGML v1.0//EN
CALSCALE:GREGORIAN
METHOD:PUBLISH
X-WR-CALNAME:Réso Pédia
X-ORIGINAL-URL:https://www.reso-pedia.fr
X-WR-CALDESC:Évènements pour Réso Pédia
REFRESH-INTERVAL;VALUE=DURATION:PT1H
X-Robots-Tag:noindex
X-PUBLISHED-TTL:PT1H
BEGIN:VTIMEZONE
TZID:Europe/Paris
BEGIN:DAYLIGHT
TZOFFSETFROM:+0100
TZOFFSETTO:+0200
TZNAME:CEST
DTSTART:20200329T010000
END:DAYLIGHT
BEGIN:STANDARD
TZOFFSETFROM:+0200
TZOFFSETTO:+0100
TZNAME:CET
DTSTART:20201025T010000
END:STANDARD
BEGIN:DAYLIGHT
TZOFFSETFROM:+0100
TZOFFSETTO:+0200
TZNAME:CEST
DTSTART:20210328T010000
END:DAYLIGHT
BEGIN:STANDARD
TZOFFSETFROM:+0200
TZOFFSETTO:+0100
TZNAME:CET
DTSTART:20211031T010000
END:STANDARD
BEGIN:DAYLIGHT
TZOFFSETFROM:+0100
TZOFFSETTO:+0200
TZNAME:CEST
DTSTART:20220327T010000
END:DAYLIGHT
BEGIN:STANDARD
TZOFFSETFROM:+0200
TZOFFSETTO:+0100
TZNAME:CET
DTSTART:20221030T010000
END:STANDARD
END:VTIMEZONE
BEGIN:VEVENT
DTSTART;TZID=Europe/Paris:20211202T160000
DTEND;TZID=Europe/Paris:20211202T180000
DTSTAMP:20260419T234913
CREATED:20220516T123031Z
LAST-MODIFIED:20220516T124429Z
UID:10000020-1638460800-1638468000@www.reso-pedia.fr
SUMMARY:Comité de pilotage
DESCRIPTION:Réunion du Comité de pilotage : réservée aux membres du COPIL
URL:https://www.reso-pedia.fr/evenement/reunion-du-copil/
LOCATION:En ligne
CATEGORIES:Réunions Réso’Pedia
ATTACH;FMTTYPE=image/jpeg:https://www.reso-pedia.fr/wp-content/uploads/2021/07/FORMES_RÉSO_PEDIA_6.jpg
ORGANIZER;CN="R%C3%A9so'P%C3%A9dia":MAILTO:coordination@reso-pedia.fr
END:VEVENT
BEGIN:VEVENT
DTSTART;TZID=Europe/Paris:20210916T140000
DTEND;TZID=Europe/Paris:20210916T173000
DTSTAMP:20260419T234913
CREATED:20210715T132610Z
LAST-MODIFIED:20220516T125049Z
UID:10000009-1631800800-1631813400@www.reso-pedia.fr
SUMMARY:Webinaire inaugural
DESCRIPTION:Thème : « Les effets de la crise sanitaire COVID sur la santé des enfants ». \nVoir le contenu de la formation
URL:https://www.reso-pedia.fr/evenement/formations-resopedia-webinaire-inaugural/
LOCATION:Webinaire\, En ligne
CATEGORIES:Formations Réso’Pédia
ORGANIZER;CN="R%C3%A9so'P%C3%A9dia":MAILTO:coordination@reso-pedia.fr
END:VEVENT
END:VCALENDAR